BEGIN:VCALENDAR
VERSION:2.0
PRODID:-//North River Ranch CDD - ECPv6.0.1//NONSGML v1.0//EN
CALSCALE:GREGORIAN
METHOD:PUBLISH
X-WR-CALNAME:North River Ranch CDD
X-ORIGINAL-URL:http://northriverranchcdd.com
X-WR-CALDESC:Events for North River Ranch CDD
REFRESH-INTERVAL;VALUE=DURATION:PT1H
X-Robots-Tag:noindex
X-PUBLISHED-TTL:PT1H
BEGIN:VTIMEZONE
TZID:UTC
BEGIN:STANDARD
TZOFFSETFROM:+0000
TZOFFSETTO:+0000
TZNAME:UTC
DTSTART:20190101T000000
END:STANDARD
END:VTIMEZONE
BEGIN:VEVENT
DTSTART;TZID=UTC:20200909T130000
DTEND;TZID=UTC:20200909T130000
DTSTAMP:20260420T112034
CREATED:20191202T095231Z
LAST-MODIFIED:20191202T095231Z
UID:5415-1599656400-1599656400@northriverranchcdd.com
SUMMARY:CDD Events
DESCRIPTION:
URL:http://northriverranchcdd.com/event/cdd-events-12
LOCATION:North River Ranch CDD\, 8141 Lakewood Main Street\, Suite 209\, Bradenton\, FL 34202
END:VEVENT
BEGIN:VEVENT
DTSTART;TZID=UTC:20200812T130000
DTEND;TZID=UTC:20200812T130000
DTSTAMP:20260420T112034
CREATED:20191202T095140Z
LAST-MODIFIED:20191202T095140Z
UID:5411-1597237200-1597237200@northriverranchcdd.com
SUMMARY:CDD Events
DESCRIPTION:
URL:http://northriverranchcdd.com/event/cdd-events-11
LOCATION:North River Ranch CDD\, 8141 Lakewood Main Street\, Suite 209\, Bradenton\, FL 34202
END:VEVENT
BEGIN:VEVENT
DTSTART;TZID=UTC:20200708T130000
DTEND;TZID=UTC:20200708T130000
DTSTAMP:20260420T112034
CREATED:20191202T095053Z
LAST-MODIFIED:20200710T141027Z
UID:5407-1594213200-1594213200@northriverranchcdd.com
SUMMARY:CDD Events
DESCRIPTION:7-8-20 Agenda PDF | RTF\n7-8-20 Revised Agenda PDF | RTF
URL:http://northriverranchcdd.com/event/cdd-events-10
LOCATION:North River Ranch CDD\, 8141 Lakewood Main Street\, Suite 209\, Bradenton\, FL 34202
END:VEVENT
BEGIN:VEVENT
DTSTART;TZID=UTC:20200610T130000
DTEND;TZID=UTC:20200610T130000
DTSTAMP:20260420T112034
CREATED:20191202T095003Z
LAST-MODIFIED:20191202T095003Z
UID:5403-1591794000-1591794000@northriverranchcdd.com
SUMMARY:CDD Events
DESCRIPTION:
URL:http://northriverranchcdd.com/event/cdd-events-9
LOCATION:North River Ranch CDD\, 8141 Lakewood Main Street\, Suite 209\, Bradenton\, FL 34202
END:VEVENT
BEGIN:VEVENT
DTSTART;TZID=UTC:20200513T130000
DTEND;TZID=UTC:20200513T130000
DTSTAMP:20260420T112034
CREATED:20191202T094826Z
LAST-MODIFIED:20191202T094900Z
UID:5399-1589374800-1589374800@northriverranchcdd.com
SUMMARY:CDD Events
DESCRIPTION:
URL:http://northriverranchcdd.com/event/cdd-events-8
LOCATION:North River Ranch CDD\, 8141 Lakewood Main Street\, Suite 209\, Bradenton\, FL 34202
END:VEVENT
BEGIN:VEVENT
DTSTART;TZID=UTC:20200408T130000
DTEND;TZID=UTC:20200408T130000
DTSTAMP:20260420T112034
CREATED:20191202T094802Z
LAST-MODIFIED:20200410T163507Z
UID:5395-1586350800-1586350800@northriverranchcdd.com
SUMMARY:CDD Events
DESCRIPTION:4-8-20 Agenda PDF | RTF\n4-8-20 Revised Agenda PDF | RTF
URL:http://northriverranchcdd.com/event/cdd-events-7
LOCATION:North River Ranch CDD\, 8141 Lakewood Main Street\, Suite 209\, Bradenton\, FL 34202
END:VEVENT
BEGIN:VEVENT
DTSTART;TZID=UTC:20200311T130000
DTEND;TZID=UTC:20200311T130000
DTSTAMP:20260420T112034
CREATED:20191202T094717Z
LAST-MODIFIED:20191202T094717Z
UID:5391-1583931600-1583931600@northriverranchcdd.com
SUMMARY:CDD Events
DESCRIPTION:
URL:http://northriverranchcdd.com/event/cdd-events-6
LOCATION:North River Ranch CDD\, 8141 Lakewood Main Street\, Suite 209\, Bradenton\, FL 34202
END:VEVENT
BEGIN:VEVENT
DTSTART;TZID=UTC:20200212T130000
DTEND;TZID=UTC:20200212T130000
DTSTAMP:20260420T112034
CREATED:20191202T094633Z
LAST-MODIFIED:20191202T094633Z
UID:5387-1581512400-1581512400@northriverranchcdd.com
SUMMARY:CDD Events
DESCRIPTION:
URL:http://northriverranchcdd.com/event/cdd-events-5
LOCATION:North River Ranch CDD\, 8141 Lakewood Main Street\, Suite 209\, Bradenton\, FL 34202
END:VEVENT
BEGIN:VEVENT
DTSTART;TZID=UTC:20200108T130000
DTEND;TZID=UTC:20200108T130000
DTSTAMP:20260420T112034
CREATED:20191202T094333Z
LAST-MODIFIED:20191202T094333Z
UID:5383-1578488400-1578488400@northriverranchcdd.com
SUMMARY:CDD Events
DESCRIPTION:
URL:http://northriverranchcdd.com/event/cdd-events-4
LOCATION:North River Ranch CDD\, 8141 Lakewood Main Street\, Suite 209\, Bradenton\, FL 34202
END:VEVENT
BEGIN:VEVENT
DTSTART;TZID=UTC:20191211T130000
DTEND;TZID=UTC:20191211T130000
DTSTAMP:20260420T112034
CREATED:20191202T094249Z
LAST-MODIFIED:20191202T094249Z
UID:5379-1576069200-1576069200@northriverranchcdd.com
SUMMARY:CDD Events
DESCRIPTION:
URL:http://northriverranchcdd.com/event/cdd-events-3
LOCATION:North River Ranch CDD\, 8141 Lakewood Main Street\, Suite 209\, Bradenton\, FL 34202
END:VEVENT
BEGIN:VEVENT
DTSTART;TZID=UTC:20191113T130000
DTEND;TZID=UTC:20191113T130000
DTSTAMP:20260420T112034
CREATED:20191202T094201Z
LAST-MODIFIED:20191202T094201Z
UID:5375-1573650000-1573650000@northriverranchcdd.com
SUMMARY:CDD Events
DESCRIPTION:
URL:http://northriverranchcdd.com/event/cdd-events-2
LOCATION:North River Ranch CDD\, 8141 Lakewood Main Street\, Suite 209\, Bradenton\, FL 34202
END:VEVENT
BEGIN:VEVENT
DTSTART;TZID=UTC:20191009T130000
DTEND;TZID=UTC:20191009T130000
DTSTAMP:20260420T112034
CREATED:20191202T093817Z
LAST-MODIFIED:20191202T093817Z
UID:5370-1570626000-1570626000@northriverranchcdd.com
SUMMARY:CDD Events
DESCRIPTION:
URL:http://northriverranchcdd.com/event/cdd-events
LOCATION:North River Ranch CDD\, 8141 Lakewood Main Street\, Suite 209\, Bradenton\, FL 34202
END:VEVENT
END:VCALENDAR